BEGIN:VCALENDAR
VERSION:2.0
PRODID:-//Säynätsalon Sanomat - ECPv6.15.20//NONSGML v1.0//EN
CALSCALE:GREGORIAN
METHOD:PUBLISH
X-ORIGINAL-URL:https://saynatsalonsanomat.fi
X-WR-CALDESC:Tapahtumat Säynätsalon Sanomat
REFRESH-INTERVAL;VALUE=DURATION:PT1H
X-Robots-Tag:noindex
X-PUBLISHED-TTL:PT1H
BEGIN:VTIMEZONE
TZID:Europe/Helsinki
BEGIN:DAYLIGHT
TZOFFSETFROM:+0200
TZOFFSETTO:+0300
TZNAME:EEST
DTSTART:20240331T010000
END:DAYLIGHT
BEGIN:STANDARD
TZOFFSETFROM:+0300
TZOFFSETTO:+0200
TZNAME:EET
DTSTART:20241027T010000
END:STANDARD
BEGIN:DAYLIGHT
TZOFFSETFROM:+0200
TZOFFSETTO:+0300
TZNAME:EEST
DTSTART:20250330T010000
END:DAYLIGHT
BEGIN:STANDARD
TZOFFSETFROM:+0300
TZOFFSETTO:+0200
TZNAME:EET
DTSTART:20251026T010000
END:STANDARD
BEGIN:DAYLIGHT
TZOFFSETFROM:+0200
TZOFFSETTO:+0300
TZNAME:EEST
DTSTART:20260329T010000
END:DAYLIGHT
BEGIN:STANDARD
TZOFFSETFROM:+0300
TZOFFSETTO:+0200
TZNAME:EET
DTSTART:20261025T010000
END:STANDARD
BEGIN:DAYLIGHT
TZOFFSETFROM:+0200
TZOFFSETTO:+0300
TZNAME:EEST
DTSTART:20270328T010000
END:DAYLIGHT
BEGIN:STANDARD
TZOFFSETFROM:+0300
TZOFFSETTO:+0200
TZNAME:EET
DTSTART:20271031T010000
END:STANDARD
END:VTIMEZONE
BEGIN:VTIMEZONE
TZID:UTC
BEGIN:STANDARD
TZOFFSETFROM:+0000
TZOFFSETTO:+0000
TZNAME:UTC
DTSTART:20240101T000000
END:STANDARD
END:VTIMEZONE
BEGIN:VEVENT
DTSTART;TZID=Europe/Helsinki:20260114T130000
DTEND;TZID=Europe/Helsinki:20260114T150000
DTSTAMP:20260424T035259
CREATED:20260106T144644Z
LAST-MODIFIED:20260106T144644Z
UID:1177-1768395600-1768402800@saynatsalonsanomat.fi
SUMMARY:Näkkärikerho
DESCRIPTION:Näkkärikerho 1.-4. luokkalaisille\, seurakuntakoti. Ilmoittautuminen jyvaskylanseurakunta.fi.
URL:https://saynatsalonsanomat.fi/tapahtuma/nakkarikerho/
LOCATION:Säynätsalon seurakuntakoti\, Saarnatie\, Säynätsalo\, 40900\, Finland
CATEGORIES:Hengellinen
END:VEVENT
BEGIN:VEVENT
DTSTART;TZID=Europe/Helsinki:20260114T130000
DTEND;TZID=Europe/Helsinki:20260114T150000
DTSTAMP:20260424T035259
CREATED:20260106T140456Z
LAST-MODIFIED:20260106T142704Z
UID:1160-1768395600-1768402800@saynatsalonsanomat.fi
SUMMARY:Eläkkeensaajien kevätkauden aloitus
DESCRIPTION:Aloitamme kevätkauden. Toimintakalentereiden jako ja jäsenmaksun (22 €) keräys.
URL:https://saynatsalonsanomat.fi/tapahtuma/elakkeensaajien-kevatkauden-aloitus/
LOCATION:Asukastalo\, Urheilukentäntie 4\, Säynätsalo\, 40900\, Finland
CATEGORIES:Järjestötoiminta
END:VEVENT
BEGIN:VEVENT
DTSTART;TZID=Europe/Helsinki:20260114T120000
DTEND;TZID=Europe/Helsinki:20260114T150000
DTSTAMP:20260424T035259
CREATED:20260106T140656Z
LAST-MODIFIED:20260106T143217Z
UID:1163-1768392000-1768402800@saynatsalonsanomat.fi
SUMMARY:Marttojen kirjapiiri
DESCRIPTION:Marttojen kirjapiiri kokoontuu kirjaston yläkerrassa. Kirja on Monica Fagerholmin Kuka tappoi Bambin.
URL:https://saynatsalonsanomat.fi/tapahtuma/marttojen-kirjapiiri/
LOCATION:Säynätsalon kirjasto\, Parviaisentie 9\, Säynätsalo\, 40900
CATEGORIES:Kirjallisuus
END:VEVENT
BEGIN:VEVENT
DTSTART;TZID=Europe/Helsinki:20260113T130000
DTEND;TZID=Europe/Helsinki:20260113T150000
DTSTAMP:20260424T035259
CREATED:20260106T144355Z
LAST-MODIFIED:20260106T144355Z
UID:1173-1768309200-1768316400@saynatsalonsanomat.fi
SUMMARY:Olohuone
DESCRIPTION:Seurakunnan olohuone aikuisille.
URL:https://saynatsalonsanomat.fi/tapahtuma/olohuone/
LOCATION:Säynätsalon seurakuntakoti\, Saarnatie\, Säynätsalo\, 40900\, Finland
CATEGORIES:Hengellinen
END:VEVENT
BEGIN:VEVENT
DTSTART;TZID=Europe/Helsinki:20260111T100000
DTEND;TZID=Europe/Helsinki:20260111T120000
DTSTAMP:20260424T035259
CREATED:20260106T143931Z
LAST-MODIFIED:20260106T143931Z
UID:1168-1768125600-1768132800@saynatsalonsanomat.fi
SUMMARY:Messu
DESCRIPTION:
URL:https://saynatsalonsanomat.fi/tapahtuma/messu/
LOCATION:Säynätsalon kirkko\, Saarnatie\, Säynätsalo\, 40900
CATEGORIES:Hengellinen
END:VEVENT
BEGIN:VEVENT
DTSTART;TZID=Europe/Helsinki:20260101T121500
DTEND;TZID=Europe/Helsinki:20260101T123000
DTSTAMP:20260424T035259
CREATED:20260106T144215Z
LAST-MODIFIED:20260106T144215Z
UID:1170-1767269700-1767270600@saynatsalonsanomat.fi
SUMMARY:Ad Sextam - liturginen rukoushetki
DESCRIPTION:Rukoushetki maanantaista lauantaihin seurakuntakodilla. \nKesto 15 minuuttia. \nAlkaen 1.1.
URL:https://saynatsalonsanomat.fi/tapahtuma/ad-sextam-liturginen-rukoushetki/
LOCATION:Säynätsalon seurakuntakoti\, Saarnatie\, Säynätsalo\, 40900\, Finland
CATEGORIES:Hengellinen
END:VEVENT
BEGIN:VEVENT
DTSTART;TZID=Europe/Helsinki:20251214T160000
DTEND;TZID=Europe/Helsinki:20251214T160000
DTSTAMP:20260424T035259
CREATED:20251203T133731Z
LAST-MODIFIED:20260106T140901Z
UID:995-1765728000-1765728000@saynatsalonsanomat.fi
SUMMARY:Kauneimmat joululaulut kirkossa
DESCRIPTION:
URL:https://saynatsalonsanomat.fi/tapahtuma/kauneimmat-joululaulut-kirkossa/
LOCATION:Säynätsalon kirkko\, Saarnatie\, Säynätsalo\, 40900
CATEGORIES:Musiikki
END:VEVENT
BEGIN:VEVENT
DTSTART;TZID=UTC:20251203T120000
DTEND;TZID=UTC:20251203T120000
DTSTAMP:20260424T035259
CREATED:20251202T182140Z
LAST-MODIFIED:20260106T140830Z
UID:984-1764763200-1764763200@saynatsalonsanomat.fi
SUMMARY:Kirjapiiri
DESCRIPTION:Lukukirjana on Carol Shieldsin Kivipäiväkirjat.
URL:https://saynatsalonsanomat.fi/tapahtuma/kirjapiiri/
LOCATION:Säynätsalon kirjasto\, Parviaisentie 9\, Säynätsalo\, 40900
CATEGORIES:Kirjallisuus
END:VEVENT
BEGIN:VEVENT
DTSTART;TZID=UTC:20251129T110000
DTEND;TZID=UTC:20251129T170000
DTSTAMP:20260424T035259
CREATED:20251202T181946Z
LAST-MODIFIED:20260106T141105Z
UID:981-1764414000-1764435600@saynatsalonsanomat.fi
SUMMARY:Joulun avajaiset
DESCRIPTION:Marttojen tonttuikkunan paljastus VALOkuvaamon edessä! Tervetuloa katsomaan tonttujen joulujuhlaa!
URL:https://saynatsalonsanomat.fi/tapahtuma/joulun-avajaiset/
LOCATION:VALOkuvaamo\, Parviaisentie 5\, Säynätsalo\, 40900
CATEGORIES:Yleinen
END:VEVENT
BEGIN:VEVENT
DTSTART;TZID=Europe/Helsinki:20251121T100000
DTEND;TZID=Europe/Helsinki:20251121T100000
DTSTAMP:20260424T035259
CREATED:20251202T181741Z
LAST-MODIFIED:20260106T141211Z
UID:979-1763719200-1763719200@saynatsalonsanomat.fi
SUMMARY:Virtapiiri
DESCRIPTION:Teemme kransseja. Tuo materiaalia mukanasi\, kranssiaihioita on.
URL:https://saynatsalonsanomat.fi/tapahtuma/virtapiiri/
LOCATION:Pappila\, Pappilantie 6\, Säynätsalo\, 40900
CATEGORIES:Käsityöt
END:VEVENT
END:VCALENDAR