BEGIN:VCALENDAR
VERSION:2.0
PRODID:-//Säynätsalon Sanomat - ECPv6.15.20//NONSGML v1.0//EN
CALSCALE:GREGORIAN
METHOD:PUBLISH
X-ORIGINAL-URL:https://saynatsalonsanomat.fi
X-WR-CALDESC:Tapahtumat Säynätsalon Sanomat
REFRESH-INTERVAL;VALUE=DURATION:PT1H
X-Robots-Tag:noindex
X-PUBLISHED-TTL:PT1H
BEGIN:VTIMEZONE
TZID:Europe/Helsinki
BEGIN:DAYLIGHT
TZOFFSETFROM:+0200
TZOFFSETTO:+0300
TZNAME:EEST
DTSTART:20250330T010000
END:DAYLIGHT
BEGIN:STANDARD
TZOFFSETFROM:+0300
TZOFFSETTO:+0200
TZNAME:EET
DTSTART:20251026T010000
END:STANDARD
BEGIN:DAYLIGHT
TZOFFSETFROM:+0200
TZOFFSETTO:+0300
TZNAME:EEST
DTSTART:20260329T010000
END:DAYLIGHT
BEGIN:STANDARD
TZOFFSETFROM:+0300
TZOFFSETTO:+0200
TZNAME:EET
DTSTART:20261025T010000
END:STANDARD
BEGIN:DAYLIGHT
TZOFFSETFROM:+0200
TZOFFSETTO:+0300
TZNAME:EEST
DTSTART:20270328T010000
END:DAYLIGHT
BEGIN:STANDARD
TZOFFSETFROM:+0300
TZOFFSETTO:+0200
TZNAME:EET
DTSTART:20271031T010000
END:STANDARD
END:VTIMEZONE
BEGIN:VEVENT
DTSTART;TZID=Europe/Helsinki:20260127T100000
DTEND;TZID=Europe/Helsinki:20260127T120000
DTSTAMP:20260423T221951
CREATED:20260119T082455Z
LAST-MODIFIED:20260119T083001Z
UID:1194-1769508000-1769515200@saynatsalonsanomat.fi
SUMMARY:Kahvittelua ja laulajaisia
DESCRIPTION:Laulajaiset kevään aikana 10.2.\, 10.3. ja 7.4. Muilla kerroilla erikseen sovittavaa ohjelmaa kahvittelun lomassa. Uudetkin jäsenyydestä kiinnostuneet ovat tervetulleita!
URL:https://saynatsalonsanomat.fi/tapahtuma/kahvittelua-ja-laulajaisia2/
LOCATION:Vanerila\, Puutie\, Säynätsalo\, 40900
CATEGORIES:Musiikki,Yleinen
END:VEVENT
BEGIN:VEVENT
DTSTART;TZID=Europe/Helsinki:20260128T123000
DTEND;TZID=Europe/Helsinki:20260128T133000
DTSTAMP:20260423T221951
CREATED:20260119T133905Z
LAST-MODIFIED:20260119T134728Z
UID:1215-1769603400-1769607000@saynatsalonsanomat.fi
SUMMARY:Lauluista voimaa - yhteislaulutilaisuus
DESCRIPTION:Lauluista voimaa -yhteislaulutilaisuus kirjastolla.
URL:https://saynatsalonsanomat.fi/tapahtuma/lauluista-voimaa-yhteislaulutilaisuus/
LOCATION:Säynätsalon kirjasto\, Parviaisentie 9\, Säynätsalo\, 40900
CATEGORIES:Musiikki
END:VEVENT
BEGIN:VEVENT
DTSTART;TZID=Europe/Helsinki:20260129T170000
DTEND;TZID=Europe/Helsinki:20260129T190000
DTSTAMP:20260423T221951
CREATED:20260119T083236Z
LAST-MODIFIED:20260119T083236Z
UID:1204-1769706000-1769713200@saynatsalonsanomat.fi
SUMMARY:Tuunaa parsimalla
DESCRIPTION:Aiheena parsimalla tuunaamista\, ohjeita ja ideoita. Vieraana opastamassa käsityönopettaja Niina Honkala.
URL:https://saynatsalonsanomat.fi/tapahtuma/tuunaa-parsimalla/
LOCATION:Vanerila\, Puutie\, Säynätsalo\, 40900
CATEGORIES:Käsityöt
END:VEVENT
BEGIN:VEVENT
DTSTART;TZID=Europe/Helsinki:20260201T100000
DTEND;TZID=Europe/Helsinki:20260201T120000
DTSTAMP:20260423T221951
CREATED:20260126T072206Z
LAST-MODIFIED:20260126T072401Z
UID:1242-1769940000-1769947200@saynatsalonsanomat.fi
SUMMARY:Messu
DESCRIPTION:Jyväskylän seurakunnan Säynätsalon lähikirkkoalueen tapahtumat löytyvät seurakunnan sivuilta.
URL:https://saynatsalonsanomat.fi/tapahtuma/messu-3/
LOCATION:Säynätsalon kirkko\, Saarnatie\, Säynätsalo\, 40900
CATEGORIES:Hengellinen
END:VEVENT
BEGIN:VEVENT
DTSTART;TZID=Europe/Helsinki:20260203T100000
DTEND;TZID=Europe/Helsinki:20260203T120000
DTSTAMP:20260423T221951
CREATED:20260119T082544Z
LAST-MODIFIED:20260119T082925Z
UID:1196-1770112800-1770120000@saynatsalonsanomat.fi
SUMMARY:Kahvittelua ja laulajaisia
DESCRIPTION:Laulajaiset kevään aikana 10.2.\, 10.3. ja 7.4. Muilla kerroilla erikseen sovittavaa ohjelmaa kahvittelun lomassa. Uudetkin jäsenyydestä kiinnostuneet ovat tervetulleita!
URL:https://saynatsalonsanomat.fi/tapahtuma/kahvittelua-ja-laulajaisia/
LOCATION:Vanerila\, Puutie\, Säynätsalo\, 40900
CATEGORIES:Musiikki,Yleinen
END:VEVENT
BEGIN:VEVENT
DTSTART;TZID=Europe/Helsinki:20260204T130000
DTEND;TZID=Europe/Helsinki:20260204T150000
DTSTAMP:20260423T221951
CREATED:20260119T082755Z
LAST-MODIFIED:20260119T082834Z
UID:1198-1770210000-1770217200@saynatsalonsanomat.fi
SUMMARY:Ikääntyvien ravitsemus
DESCRIPTION:Ikääntyvien ravitsemus. Alustaa ravitsemusterapeutti Eeva Nykänen.
URL:https://saynatsalonsanomat.fi/tapahtuma/ikaantyvien-ravitsemus/
LOCATION:Asukastalo\, Urheilukentäntie 4\, Säynätsalo\, 40900\, Finland
CATEGORIES:Yleinen
END:VEVENT
BEGIN:VEVENT
DTSTART;VALUE=DATE:20260205
DTEND;VALUE=DATE:20260206
DTSTAMP:20260423T221951
CREATED:20260126T072954Z
LAST-MODIFIED:20260126T072954Z
UID:1250-1770249600-1770335999@saynatsalonsanomat.fi
SUMMARY:Lehti nro 2 ilmestyy
DESCRIPTION:
URL:https://saynatsalonsanomat.fi/tapahtuma/lehti-nro-2-ilmestyy/
LOCATION:Säynätsalo\, Säynätsalo\, 40900
CATEGORIES:Yleinen
END:VEVENT
BEGIN:VEVENT
DTSTART;TZID=Europe/Helsinki:20260206T100000
DTEND;TZID=Europe/Helsinki:20260206T120000
DTSTAMP:20260423T221951
CREATED:20260202T143800Z
LAST-MODIFIED:20260202T143800Z
UID:1600-1770372000-1770379200@saynatsalonsanomat.fi
SUMMARY:Virtapiiri: Kansalliskirjailija Runeberg
DESCRIPTION:
URL:https://saynatsalonsanomat.fi/tapahtuma/virtapiiri-kansalliskirjailija-runeberg/
LOCATION:Pappila\, Pappilantie 6\, Säynätsalo\, 40900
CATEGORIES:Yleinen
END:VEVENT
BEGIN:VEVENT
DTSTART;TZID=Europe/Helsinki:20260210T100000
DTEND;TZID=Europe/Helsinki:20260210T120000
DTSTAMP:20260423T221951
CREATED:20260219T132035Z
LAST-MODIFIED:20260219T132035Z
UID:2469-1770717600-1770724800@saynatsalonsanomat.fi
SUMMARY:Kahvittelua ja laulajaisia
DESCRIPTION:Laulajaiset kevään aikana 10.3. ja 7.4. Muilla kerroilla erikseen sovittavaa ohjelmaa kahvittelun lomassa. Uudetkin jäsenyydestä kiinnostuneet ovat tervetulleita!
URL:https://saynatsalonsanomat.fi/tapahtuma/kahvittelua-ja-laulajaisia-2/
LOCATION:Vanerila\, Puutie\, Säynätsalo\, 40900
CATEGORIES:Musiikki,Yleinen
END:VEVENT
BEGIN:VEVENT
DTSTART;TZID=Europe/Helsinki:20260216T160000
DTEND;TZID=Europe/Helsinki:20260216T180000
DTSTAMP:20260423T221951
CREATED:20260202T145817Z
LAST-MODIFIED:20260202T145817Z
UID:1602-1771257600-1771264800@saynatsalonsanomat.fi
SUMMARY:Arjen aterian ystävänpäiväjatkot
DESCRIPTION:Päivällinen 5€/1€/ ilmainen alle 4v. Lapsille leikkiseuraa ja mukavaa puuhaa.
URL:https://saynatsalonsanomat.fi/tapahtuma/arjen-aterian-ystavanpaivajatkot/
LOCATION:Säynätsalon seurakuntakoti\, Saarnatie\, Säynätsalo\, 40900\, Finland
CATEGORIES:Hengellinen
END:VEVENT
BEGIN:VEVENT
DTSTART;TZID=Europe/Helsinki:20260217T100000
DTEND;TZID=Europe/Helsinki:20260217T120000
DTSTAMP:20260423T221951
CREATED:20260219T132440Z
LAST-MODIFIED:20260219T132440Z
UID:2471-1771322400-1771329600@saynatsalonsanomat.fi
SUMMARY:Kahvittelua ja laulajaisia
DESCRIPTION:Laulajaiset kevään aikana 10.3. ja 7.4. Muilla kerroilla erikseen sovittavaa ohjelmaa kahvittelun lomassa. Uudetkin jäsenyydestä kiinnostuneet ovat tervetulleita!
URL:https://saynatsalonsanomat.fi/tapahtuma/kahvittelua-ja-laulajaisia-3/
LOCATION:Vanerila\, Puutie\, Säynätsalo\, 40900
CATEGORIES:Musiikki,Yleinen
END:VEVENT
BEGIN:VEVENT
DTSTART;TZID=Europe/Helsinki:20260218T110000
DTEND;TZID=Europe/Helsinki:20260218T130000
DTSTAMP:20260423T221951
CREATED:20260202T150102Z
LAST-MODIFIED:20260202T150102Z
UID:1606-1771412400-1771419600@saynatsalonsanomat.fi
SUMMARY:Hernekeittopäivä
DESCRIPTION:Hinta 7 € sis. leivän\, levitteen\, juuston sekä kahvin ja pannarin.
URL:https://saynatsalonsanomat.fi/tapahtuma/hernekeittopaiva/
LOCATION:Asukastalo\, Urheilukentäntie 4\, Säynätsalo\, 40900\, Finland
CATEGORIES:Järjestötoiminta,Yleinen
END:VEVENT
BEGIN:VEVENT
DTSTART;TZID=Europe/Helsinki:20260218T120000
DTEND;TZID=Europe/Helsinki:20260218T140000
DTSTAMP:20260423T221951
CREATED:20260202T145945Z
LAST-MODIFIED:20260202T145945Z
UID:1604-1771416000-1771423200@saynatsalonsanomat.fi
SUMMARY:Kirjapiiri
DESCRIPTION:Kirjana Ingeborg Arvola\, Jäämeren laulu
URL:https://saynatsalonsanomat.fi/tapahtuma/kirjapiiri-2/
LOCATION:Säynätsalon kirjasto\, Parviaisentie 9\, Säynätsalo\, 40900
CATEGORIES:Kirjallisuus
END:VEVENT
BEGIN:VEVENT
DTSTART;VALUE=DATE:20260219
DTEND;VALUE=DATE:20260220
DTSTAMP:20260423T221951
CREATED:20260126T073123Z
LAST-MODIFIED:20260126T073123Z
UID:1252-1771459200-1771545599@saynatsalonsanomat.fi
SUMMARY:Lehti nro 3 ilmestyy
DESCRIPTION:
URL:https://saynatsalonsanomat.fi/tapahtuma/lehti-nro-3-ilmestyy/
LOCATION:Säynätsalo\, Säynätsalo\, 40900
CATEGORIES:Yleinen
END:VEVENT
BEGIN:VEVENT
DTSTART;TZID=Europe/Helsinki:20260220T100000
DTEND;TZID=Europe/Helsinki:20260220T120000
DTSTAMP:20260423T221951
CREATED:20260219T125603Z
LAST-MODIFIED:20260219T125603Z
UID:2457-1771581600-1771588800@saynatsalonsanomat.fi
SUMMARY:Virtapiiri: Laskiainen
DESCRIPTION:
URL:https://saynatsalonsanomat.fi/tapahtuma/virtapiiri-laskiainen/
LOCATION:Pappila\, Pappilantie 6\, Säynätsalo\, 40900
CATEGORIES:Yleinen
END:VEVENT
BEGIN:VEVENT
DTSTART;TZID=Europe/Helsinki:20260221T110000
DTEND;TZID=Europe/Helsinki:20260221T160000
DTSTAMP:20260423T221951
CREATED:20260219T135643Z
LAST-MODIFIED:20260219T135643Z
UID:2477-1771671600-1771689600@saynatsalonsanomat.fi
SUMMARY:Lukulauantai
DESCRIPTION:Ohjelma \n\n10-14 kirjasto avoinna\n10-15 AaBakery -kahvila avoinna\, päivän tarjouksena kahvi ja kakkupala 7 €\n10-12 ja 13-15 Antikvariaatti Scriptorium avoinna\n11-13 kahvilassa tavattavissa valokuvataiteilija Simo Peteri\, jonka näyttely Hän ajattelee on kahvilassa esillä maaliskuun loppuun asti\n11-15 kunnantalo avoinna\, vapaa pääsy koko päivän\, tiloihin voi tutustua omatoimisesti ja opastusvideo on katsottavissa\, Design Shop avoinna\, sekä Taipuu-galleria\, jossa valokuvataitelija Marko Kaukon näyttely Luontosuhde kiipeilijän näkökulmasta\, myynnissä useamman taiteilijan teoksia\n11-12 Satumummu kunnantalolla lukemassa satuja lapsille\, kirjastonhoitaja on valinnut mukavaa luettavaa\n11-15 Kunnantalon aulan ja käytävän myynti- ja esittelypisteet ovat avoinna:\nBibliofiili Jouko Ylönen arvio ensisijaisesti kirjoja\, myös postikortteja ja pienpainatteita voi tuoda näytille\nMyynnissä kirja Erikoisjoukot\, Päämajan kaukopartioista erikoisjääkäreihin\, kirjailijat Mikko Porvali ja Vesapekka Larkkonen signeeraavat kirjoja paikan päällä\nTekstiilitaiteilija Arja Roihan taidetta esillä ja myynnissä\nSäynätsalo-seura myy kotiseutukirjoja ja juttelee saarten menneistä ja ajankohtaisista asioista\, mahdollisuus liittyä seuran jäseneksi\nParemman Luonnon Puolesta -Säätiön (PLUPS) toimisto on avoinna\, toiminnanjohtaja Niko Nappu esittelee säätiön toimintaa ja myy tukituotteita\nSäynätsalon Marttojen esittelypiste\, paikalla Marttojen kirjapiirin vetäjä Eija Kiiskinen kertomassa mm. kirjapiirin toiminnasta\, mahdollisuus liittyä jäseneksi\nSäynätsalon Sanomat -lehden päätoimittaja Terhi Takkinen esittelee lehteä klo 11-12\nLasten satunurkassa voi lukea\, piirtää\, tehdä väritystehtäviä ja pelata lautapelejä\n12-13 Kirjailijavierailu kirjastossa: Kirjailija\, taiteilija Iikka Hackman kertoo uudesta romaanistaan Laulu jota emme ole kuulleet (ilmestymispäivä 13.2.2026)\n13-15 Iikka Hackman kunnantalolla myymässä ja signeeraamassa uutta kirjaa\n13.30-14.30 Kirjailijavierailu valtuustosalissa: Kirjailijat Vesapekka Larkkonen ja Mikko Porvali kertovat suomalaisten erikoisjoukkojen historiasta\n15-16 Teemaopastus\, Kunnantalo ja kirjasto yhdessä\, kesto noin tunti\, opastusmaksu 11 € tai 6\,50€/hlö\, Museokortilla ilmaiseksi\, oppaana Mira Savola\n16 tapahtuma päättyy
URL:https://saynatsalonsanomat.fi/tapahtuma/lukulauantai/
LOCATION:Kunnantalo\, Parviaisentie 9\, Säynätsalo\, 40900
CATEGORIES:Kirjallisuus
END:VEVENT
BEGIN:VEVENT
DTSTART;TZID=Europe/Helsinki:20260224T100000
DTEND;TZID=Europe/Helsinki:20260224T120000
DTSTAMP:20260423T221951
CREATED:20260219T134603Z
LAST-MODIFIED:20260219T134956Z
UID:2475-1771927200-1771934400@saynatsalonsanomat.fi
SUMMARY:Kahvittelua ja laulajaisia
DESCRIPTION:Laulajaiset kevään aikana 10.3. ja 7.4. Muilla kerroilla erikseen sovittavaa ohjelmaa kahvittelun lomassa. Uudetkin jäsenyydestä kiinnostuneet ovat tervetulleita!
URL:https://saynatsalonsanomat.fi/tapahtuma/kahvittelua-ja-laulajaisia-5/
LOCATION:Vanerila\, Puutie\, Säynätsalo\, 40900
CATEGORIES:Musiikki,Yleinen
END:VEVENT
BEGIN:VEVENT
DTSTART;TZID=Europe/Helsinki:20260227T100000
DTEND;TZID=Europe/Helsinki:20260227T120000
DTSTAMP:20260423T221951
CREATED:20260219T130154Z
LAST-MODIFIED:20260219T130154Z
UID:2459-1772186400-1772193600@saynatsalonsanomat.fi
SUMMARY:Virtapiiri: Pistokasperjantai
DESCRIPTION:Vaihdetaan pistokkaita. Tuo tullessais\, vie mennessäis.
URL:https://saynatsalonsanomat.fi/tapahtuma/virtapiiri-pistokasperjantai/
LOCATION:Pappila\, Pappilantie 6\, Säynätsalo\, 40900
CATEGORIES:Yleinen
END:VEVENT
BEGIN:VEVENT
DTSTART;TZID=Europe/Helsinki:20260301T100000
DTEND;TZID=Europe/Helsinki:20260301T120000
DTSTAMP:20260423T221951
CREATED:20260303T073005Z
LAST-MODIFIED:20260303T073005Z
UID:2779-1772359200-1772366400@saynatsalonsanomat.fi
SUMMARY:Messut maaliskuun ajan seurakuntakodilla
DESCRIPTION:Kirkon urkujen rakentamisen vuoksi maaliskuun messut seurakuntakodilla \nJyväskylän seurakunnan Säynätsalon lähikirkkoalueen tapahtumat löytyvät seurakunnan sivuilta.
URL:https://saynatsalonsanomat.fi/tapahtuma/messut-maaliskuun-ajan-seurakuntakodilla/
LOCATION:Säynätsalon seurakuntakoti\, Saarnatie\, Säynätsalo\, 40900\, Finland
CATEGORIES:Hengellinen
END:VEVENT
BEGIN:VEVENT
DTSTART;TZID=Europe/Helsinki:20260303T100000
DTEND;TZID=Europe/Helsinki:20260303T120000
DTSTAMP:20260423T221951
CREATED:20260219T133002Z
LAST-MODIFIED:20260219T133256Z
UID:2473-1772532000-1772539200@saynatsalonsanomat.fi
SUMMARY:Kahvittelua ja laulajaisia
DESCRIPTION:Laulajaiset kevään aikana 10.3. ja 7.4. Muilla kerroilla erikseen sovittavaa ohjelmaa kahvittelun lomassa. Uudetkin jäsenyydestä kiinnostuneet ovat tervetulleita!
URL:https://saynatsalonsanomat.fi/tapahtuma/kahvittelua-ja-laulajaisia-4/
LOCATION:Vanerila\, Puutie\, Säynätsalo\, 40900
CATEGORIES:Musiikki,Yleinen
END:VEVENT
BEGIN:VEVENT
DTSTART;TZID=Europe/Helsinki:20260304T100000
DTEND;TZID=Europe/Helsinki:20260304T110000
DTSTAMP:20260423T221951
CREATED:20260219T130344Z
LAST-MODIFIED:20260219T130344Z
UID:2461-1772618400-1772622000@saynatsalonsanomat.fi
SUMMARY:Lasten satutunti
DESCRIPTION:
URL:https://saynatsalonsanomat.fi/tapahtuma/lasten-satutunti/
LOCATION:Pappila\, Pappilantie 6\, Säynätsalo\, 40900
CATEGORIES:Yleinen
END:VEVENT
BEGIN:VEVENT
DTSTART;TZID=Europe/Helsinki:20260304T130000
DTEND;TZID=Europe/Helsinki:20260304T150000
DTSTAMP:20260423T221951
CREATED:20260219T130722Z
LAST-MODIFIED:20260219T130722Z
UID:2463-1772629200-1772636400@saynatsalonsanomat.fi
SUMMARY:Bingo
DESCRIPTION:Bingolapun hinta 10 €.
URL:https://saynatsalonsanomat.fi/tapahtuma/bingo/
LOCATION:Asukastalo\, Urheilukentäntie 4\, Säynätsalo\, 40900\, Finland
CATEGORIES:Yleinen
END:VEVENT
BEGIN:VEVENT
DTSTART;TZID=Europe/Helsinki:20260305T170000
DTEND;TZID=Europe/Helsinki:20260305T190000
DTSTAMP:20260423T221951
CREATED:20260219T131038Z
LAST-MODIFIED:20260219T131038Z
UID:2465-1772730000-1772737200@saynatsalonsanomat.fi
SUMMARY:Kässäkahvila
DESCRIPTION:
URL:https://saynatsalonsanomat.fi/tapahtuma/kassakahvila/
LOCATION:Vanerila\, Puutie\, Säynätsalo\, 40900
CATEGORIES:Käsityöt
END:VEVENT
BEGIN:VEVENT
DTSTART;TZID=Europe/Helsinki:20260306T100000
DTEND;TZID=Europe/Helsinki:20260306T120000
DTSTAMP:20260423T221951
CREATED:20260303T070710Z
LAST-MODIFIED:20260303T070710Z
UID:2753-1772791200-1772798400@saynatsalonsanomat.fi
SUMMARY:Virtapiiri: Vietämme naistenpäivää
DESCRIPTION:
URL:https://saynatsalonsanomat.fi/tapahtuma/virtapiiri-vietamme-naistenpaivaa/
LOCATION:Pappila\, Pappilantie 6\, Säynätsalo\, 40900
CATEGORIES:Yleinen
END:VEVENT
BEGIN:VEVENT
DTSTART;TZID=Europe/Helsinki:20260307T160000
DTEND;TZID=Europe/Helsinki:20260307T180000
DTSTAMP:20260423T221951
CREATED:20260303T072758Z
LAST-MODIFIED:20260303T072758Z
UID:2777-1772899200-1772906400@saynatsalonsanomat.fi
SUMMARY:Evankeliumin iltapäivä
DESCRIPTION:
URL:https://saynatsalonsanomat.fi/tapahtuma/evankeliumin-iltapaiva-2/
LOCATION:Vanerila\, Puutie\, Säynätsalo\, 40900
CATEGORIES:Hengellinen
END:VEVENT
BEGIN:VEVENT
DTSTART;TZID=Europe/Helsinki:20260308T130000
DTEND;TZID=Europe/Helsinki:20260308T150000
DTSTAMP:20260423T221951
CREATED:20260219T121248Z
LAST-MODIFIED:20260219T121522Z
UID:2453-1772974800-1772982000@saynatsalonsanomat.fi
SUMMARY:Lasten hiihtokilpailut
DESCRIPTION:
URL:https://saynatsalonsanomat.fi/tapahtuma/lasten-hiihtokilpailut/
LOCATION:Säynätsalon urheilukenttä\, Urheilukentäntie\, Säynätsalo\, 40900\, Finland
CATEGORIES:Liikunta
END:VEVENT
BEGIN:VEVENT
DTSTART;TZID=Europe/Helsinki:20260310T100000
DTEND;TZID=Europe/Helsinki:20260310T120000
DTSTAMP:20260423T221951
CREATED:20260303T072348Z
LAST-MODIFIED:20260303T072348Z
UID:2769-1773136800-1773144000@saynatsalonsanomat.fi
SUMMARY:Kahvittelua ja laulajaisia
DESCRIPTION:Laulajaiset kevään aikana 10.3. ja 7.4. Muilla kerroilla erikseen sovittavaa ohjelmaa kahvittelun lomassa. Uudetkin jäsenyydestä kiinnostuneet ovat tervetulleita!
URL:https://saynatsalonsanomat.fi/tapahtuma/kahvittelua-ja-laulajaisia-6/
LOCATION:Vanerila\, Puutie\, Säynätsalo\, 40900
CATEGORIES:Musiikki,Yleinen
END:VEVENT
BEGIN:VEVENT
DTSTART;TZID=Europe/Helsinki:20260312T173000
DTEND;TZID=Europe/Helsinki:20260312T183000
DTSTAMP:20260423T221951
CREATED:20260219T131335Z
LAST-MODIFIED:20260219T131335Z
UID:2467-1773336600-1773340200@saynatsalonsanomat.fi
SUMMARY:Martat: vuosikokous
DESCRIPTION:Kahvitus klo 17
URL:https://saynatsalonsanomat.fi/tapahtuma/martat-vuosikokous/
LOCATION:Vanerila\, Puutie\, Säynätsalo\, 40900
CATEGORIES:Järjestötoiminta
END:VEVENT
BEGIN:VEVENT
DTSTART;TZID=Europe/Helsinki:20260313T110000
DTEND;TZID=Europe/Helsinki:20260313T120000
DTSTAMP:20260423T221951
CREATED:20260303T070829Z
LAST-MODIFIED:20260303T070829Z
UID:2756-1773399600-1773403200@saynatsalonsanomat.fi
SUMMARY:Pianokonsertti - Hannu Ala
DESCRIPTION:
URL:https://saynatsalonsanomat.fi/tapahtuma/pianokonsertti-hannu-ala/
LOCATION:Pappila\, Pappilantie 6\, Säynätsalo\, 40900
CATEGORIES:Musiikki
END:VEVENT
BEGIN:VEVENT
DTSTART;TZID=Europe/Helsinki:20260314T130000
DTEND;TZID=Europe/Helsinki:20260314T140000
DTSTAMP:20260423T221951
CREATED:20260303T072151Z
LAST-MODIFIED:20260303T072151Z
UID:2767-1773493200-1773496800@saynatsalonsanomat.fi
SUMMARY:Säynätsalo-seura: Vuosikokous
DESCRIPTION:Sääntömääräiset asiat\, kahvitarjoilu.
URL:https://saynatsalonsanomat.fi/tapahtuma/saynatsalo-seura-vuosikokous/
LOCATION:Vanerila\, Puutie\, Säynätsalo\, 40900
CATEGORIES:Järjestötoiminta
END:VEVENT
END:VCALENDAR