BEGIN:VCALENDAR
VERSION:2.0
PRODID:-//Säynätsalon Sanomat - ECPv6.15.20//NONSGML v1.0//EN
CALSCALE:GREGORIAN
METHOD:PUBLISH
X-WR-CALNAME:Säynätsalon Sanomat
X-ORIGINAL-URL:https://saynatsalonsanomat.fi
X-WR-CALDESC:Tapahtumat Säynätsalon Sanomat
REFRESH-INTERVAL;VALUE=DURATION:PT1H
X-Robots-Tag:noindex
X-PUBLISHED-TTL:PT1H
BEGIN:VTIMEZONE
TZID:UTC
BEGIN:STANDARD
TZOFFSETFROM:+0000
TZOFFSETTO:+0000
TZNAME:UTC
DTSTART:20240101T000000
END:STANDARD
END:VTIMEZONE
BEGIN:VEVENT
DTSTART;TZID=UTC:20251203T120000
DTEND;TZID=UTC:20251203T120000
DTSTAMP:20260423T182737
CREATED:20251202T182140Z
LAST-MODIFIED:20260106T140830Z
UID:984-1764763200-1764763200@saynatsalonsanomat.fi
SUMMARY:Kirjapiiri
DESCRIPTION:Lukukirjana on Carol Shieldsin Kivipäiväkirjat.
URL:https://saynatsalonsanomat.fi/tapahtuma/kirjapiiri/
LOCATION:Säynätsalon kirjasto\, Parviaisentie 9\, Säynätsalo\, 40900
CATEGORIES:Kirjallisuus
END:VEVENT
END:VCALENDAR