BEGIN:VCALENDAR
VERSION:2.0
PRODID:-//Säynätsalon Sanomat - ECPv6.15.20//NONSGML v1.0//EN
CALSCALE:GREGORIAN
METHOD:PUBLISH
X-WR-CALNAME:Säynätsalon Sanomat
X-ORIGINAL-URL:https://saynatsalonsanomat.fi
X-WR-CALDESC:Tapahtumat Säynätsalon Sanomat
REFRESH-INTERVAL;VALUE=DURATION:PT1H
X-Robots-Tag:noindex
X-PUBLISHED-TTL:PT1H
BEGIN:VTIMEZONE
TZID:UTC
BEGIN:STANDARD
TZOFFSETFROM:+0000
TZOFFSETTO:+0000
TZNAME:UTC
DTSTART:20240101T000000
END:STANDARD
END:VTIMEZONE
BEGIN:VEVENT
DTSTART;TZID=UTC:20251129T110000
DTEND;TZID=UTC:20251129T170000
DTSTAMP:20260423T225035
CREATED:20251202T181946Z
LAST-MODIFIED:20260106T141105Z
UID:981-1764414000-1764435600@saynatsalonsanomat.fi
SUMMARY:Joulun avajaiset
DESCRIPTION:Marttojen tonttuikkunan paljastus VALOkuvaamon edessä! Tervetuloa katsomaan tonttujen joulujuhlaa!
URL:https://saynatsalonsanomat.fi/tapahtuma/joulun-avajaiset/
LOCATION:VALOkuvaamo\, Parviaisentie 5\, Säynätsalo\, 40900
CATEGORIES:Yleinen
END:VEVENT
END:VCALENDAR